BEGIN:VCALENDAR
VERSION:2.0
PRODID:-//Masters Swimming Tasmania - ECPv4.9.5//NONSGML v1.0//EN
CALSCALE:GREGORIAN
METHOD:PUBLISH
X-WR-CALNAME:Masters Swimming Tasmania
X-ORIGINAL-URL:https://mastersswimmingtasmania.com.au
X-WR-CALDESC:Events for Masters Swimming Tasmania
BEGIN:VTIMEZONE
TZID:"Australia/Hobart"
BEGIN:STANDARD
TZOFFSETFROM:+1100
TZOFFSETTO:+1000
TZNAME:AEST
DTSTART:20210403T160000
END:STANDARD
BEGIN:DAYLIGHT
TZOFFSETFROM:+1000
TZOFFSETTO:+1100
TZNAME:AEDT
DTSTART:20211002T160000
END:DAYLIGHT
END:VTIMEZONE
BEGIN:VEVENT
DTSTART;TZID="Australia/Hobart":20210320T133000
DTEND;TZID="Australia/Hobart":20210321T113000
DTSTAMP:20210224T170220
CREATED:20200819T114848Z
LAST-MODIFIED:20210110T220323Z
UID:3275-1616247000-1616326200@mastersswimmingtasmania.com.au
SUMMARY:2021 MST Summer Championships
DESCRIPTION:The 37th Masters Swimming Tasmania\, Long Course Summer Championships will be conducted at the Doone Kennedy Hobart  Aquatic  Centre on the afternoon of Saturday\, 20 March and the morning of Sunday 21 March 2021. \nA presentation lunch will commence 45 minutes after the conclusion of racing on the Sunday. \nFlyer\nENTRIES\nIndividuals\nIndividual online entries will open at 11:59am on Monday 18 January and will close at\n11.59pm Friday 12 March.\nRelays\nRelay team entries will open on Saturday 13 March at 11.30am and close at 11.59pm\nWednesday 17 March.\nRelay team members names may be altered with the Recorder prior to the start of each session.\nLate entries will not be accepted. \nRegistration\n
URL:https://mastersswimmingtasmania.com.au/event/2021-summer-championships/
LOCATION:Doone Kennedy Hobart Aquatic Centre\, 1 Davies Avenue\, Queens Domain\, Tasmania\, 7000\, Australia
ORGANIZER;CN="Masters%20Swimming%20Tasmania":MAILTO:mastersswimmingtasmania@gmail.com
END:VEVENT
END:VCALENDAR