BEGIN:VCALENDAR
VERSION:2.0
PRODID:-//Masters Swimming Tasmania - ECPv4.9.5//NONSGML v1.0//EN
CALSCALE:GREGORIAN
METHOD:PUBLISH
X-WR-CALNAME:Masters Swimming Tasmania
X-ORIGINAL-URL:https://mastersswimmingtasmania.com.au
X-WR-CALDESC:Events for Masters Swimming Tasmania
BEGIN:VTIMEZONE
TZID:"Australia/Hobart"
BEGIN:STANDARD
TZOFFSETFROM:+1100
TZOFFSETTO:+1000
TZNAME:AEST
DTSTART:20200404T160000
END:STANDARD
BEGIN:DAYLIGHT
TZOFFSETFROM:+1000
TZOFFSETTO:+1100
TZNAME:AEDT
DTSTART:20201003T160000
END:DAYLIGHT
END:VTIMEZONE
BEGIN:VEVENT
DTSTART;VALUE=DATE:20200607
DTEND;VALUE=DATE:20200615
DTSTAMP:20200229T233152
CREATED:20190918T073802Z
LAST-MODIFIED:20190918T073802Z
UID:2699-1591488000-1592179199@mastersswimmingtasmania.com.au
SUMMARY:2020 MSA Swim Camp Thailand
DESCRIPTION:The dates for the MSA Camp in Thanyapura for 2020 are 7 – 14 June. \nDetails of the camp are currently being finalised and will be posted here as soon as they become available. \n
URL:https://mastersswimmingtasmania.com.au/event/2020-msa-swim-camp-thailand/
LOCATION:Thanyapura Health & Sports Resort\, 120/1 Moo 7\, Thepkasattri Rd\, Thalang\, Phuket\, 83110\, Thailand
CATEGORIES:International,MSA Sports Camp
END:VEVENT
END:VCALENDAR